BEGIN:VCALENDAR
VERSION:2.0
PRODID:-//The Open Road:  a learning community - ECPv6.15.3//NONSGML v1.0//EN
CALSCALE:GREGORIAN
METHOD:PUBLISH
X-WR-CALNAME:The Open Road:  a learning community
X-ORIGINAL-URL:https://openroadpdx.com
X-WR-CALDESC:Events for The Open Road:  a learning community
REFRESH-INTERVAL;VALUE=DURATION:PT1H
X-Robots-Tag:noindex
X-PUBLISHED-TTL:PT1H
BEGIN:VTIMEZONE
TZID:America/Los_Angeles
BEGIN:DAYLIGHT
TZOFFSETFROM:-0800
TZOFFSETTO:-0700
TZNAME:PDT
DTSTART:20240310T100000
END:DAYLIGHT
BEGIN:STANDARD
TZOFFSETFROM:-0700
TZOFFSETTO:-0800
TZNAME:PST
DTSTART:20241103T090000
END:STANDARD
END:VTIMEZONE
BEGIN:VEVENT
DTSTART;VALUE=DATE:20240307
DTEND;VALUE=DATE:20240404
DTSTAMP:20260425T120714
CREATED:20240307T165920Z
LAST-MODIFIED:20240307T170040Z
UID:4483-1709769600-1712188799@openroadpdx.com
SUMMARY:peace\, love\, happiness & understanding  3/7/24
DESCRIPTION:Tree of World Literature\, ceramic from Guadalajara\, Mexico \nCan you find…The Bible\, Moby Dick\, Don Quixote\, Romeo & Juliet\, The Little Prince\, Metamorphoses\, Aladdin\, Faust\, Les Miserables\, The Inferno\, The Iliad\, The Odyssey? \n  \nTHE OPEN ROAD \npeace\, love\, happiness & understanding \n  \nMarch 7\, 2024 \nAbundance! \n  \nThe road of excess leads to the palace of wisdom. \n  \n& \n  \nExuberance is Beauty. \n  \n—William Blake \n* \n  \nInsatiableness is good\, but not ingratitude. \n  \n—Thomas Traherne \n* \n  \nI was reading On Dialogue: an essay in free thought by Robert Grudin\, and it got me thinking about abundance in literature and in life—about too muchness. If I had a coat of arms\, this might be my motto: \n  \nLOVE  *  SILENCE  *  LIFE ABUNDANT! \n  \nI want to live my life to the full! I want my cup to runneth over! And it is! It is! I admire the fictional character Alexis Zorba\, from the novel Zorba the Greek by Nikos Kazantzakis. He’s based on a man Kazantzakis knew. Zorba loved “the whole catastrophe”! \n  \nIn Chapter 3 of On Dialogue\, “The Liberty of Ideas\,” Grudin talks about copia\, a Latin word that means “abundance\,” from which we get the words “copious” and “copiousness.” \n  \nLiterary copiousness is a kind of “overdoing it” that gives a special kind of delight. Grudin cites Rabelais as someone who uses copia for humorous effect. An example that came to my mind is this passage from King Lear: \n  \nOswald \nWhy dost thou use me thus? I know thee not. \nKent \nFellow\, I know thee. \nOswald \nWhat dost thou know me for? \nKent \nA knave\, a rascal\, an eater of broken meats; a base\, proud\, shallow\, beggarly\, three-suited\, hundred-pound\, filthy\, worsted-stocking knave; a lily-livered\, action-taking knave; a whoreson\, glass-gazing\, super-serviceable finical rogue; one-trunk-inheriting slave; one that wouldst be a bawd in way of good service; and art nothing but the composition of a knave\, beggar\, coward\, pander\, and the son and heir of a mongrel bitch; one whom I will beat into clamorous whining if thou deniest the least syllable of thy addition. \n  \nJames Joyce overdid it in his novel Ulysses\, and overdid overdoing it in Finnegans Wake. In Ulysses\, he describes a man\, “the citizen\,” sitting in a pub: \n  \nThe figure seated on a large boulder at the foot of a round tower was that of a broadshouldered deepchested stronglimbed frankeyed redhaired freelyfreckled shaggybearded widemouthed largenosed longheaded deepvoiced barekneed brawnyhanded hairylegged ruddyfaced sinewyarmed hero. From shoulder to shoulder he measured several ells and his rocklike mountainous knees were covered\, as was likewise the rest of his body wherever visible\, with a strong growth of tawny prickly hair in hue and toughness similar to the mountain gorse (Ulex Europeus). The widewinged nostrils\, from which bristles of the same tawny hue projected\, were of such capaciousness that within their cavernous obscurity the fieldlark might easily have lodged her nest. The eyes in which a tear and a smile strove ever for the mastery were of the dimensions of a goodsized cauliflower. A powerful current of warm breath issued at regular intervals from the profound cavity of his mouth while in rhythmic resonance the loud strong hale reverberations of his formidable heart thundered rumblingly causing the ground\, the summit of the lofty tower and the still loftier walls of the cave to vibrate and tremble. \n  \n—James Joyce\, Ulysses\, Chapter 12\, lines 151-167 \n  \nWalt Whitman overdoes it in “Song of Myself.” I’ve always been inspired by the loud “YES!” he sings to Life—and to Death. Here are a couple excerpts: \n  \nI believe in the flesh and the appetites\, \nSeeing\, hearing\, feeling\, are miracles\, and each part and tag of me is a miracle. \n  \nDivine am I inside and out\, and I make holy whatever I touch or am touched from\, \nThe scent of these arm-pits aroma finer than prayer\, \nThis head more than churches\, bibles\, and all the creeds. \n  \n& \n  \nI am an acme of things accomplished\, and I an encloser of things to be. \n  \nMy feet strike an apex of the apices of the stairs\, \nOn every step bunches of ages\, and larger bunches between the steps\, \nAll below duly traveled\, and still I mount and mount. \n  \nRise after rise bow the phantoms behind me\, \nAfar down I see the huge first Nothing\, I know I was even there\, \nI waited unseen and always\, and slept through the lethargic mist\, \nAnd took my time\, and took no hurt from the fetid carbon. \n  \nLong I was hugged close—long and long. \n  \nImmense have been the preparations for me\, \nFaithful and friendly the arms that have helped me. \n  \nCycles ferried my cradle\, rowing and rowing like cheerful boatmen\, \nFor room to me stars kept aside in their own rings\, \nThey sent influences to look after what was to hold me. \nBefore I was born out of my mother generations guided me\, \nMy embryo has never been torpid\, nothing could overlay it. \n  \nFor it the nebula cohered to an orb \nThe long slow strata piled to rest it on\, \nVast vegetables gave it sustenance\, \nMonstrous sauroids transported it in their mouths and deposited it with care. \n  \nAll forces have been steadily employed to complete and delight me\, \nNow on this spot I stand with my robust soul. \n  \n—Walt Whitman\, from sections 24 & 44 of “Song of Myself” \n  \nPeace\, Love & Life Abundant! \n—Johnny \n* \n  \nHere’s a poem from Will: \n  \nSome Tides \n  \nJust ooze in  \nQuiet as a shadow \nRising slower than  \nOld fishermen  \nAt seasons end. \nOthers come \nQuick as cats \nWind-whipped\, hungry \nDevouring acres of mud flats \nIn minutes. \n  \nThis tide today \nPulled in to our little bay \nUnhurried \nDrew its soft\, green \n Blanket of brine \n Over beds of oysters \nBarnacled blocks of rip-rap \nKelp-strewn boulders \nBeaches of stones \nRounded by   \n Endless comings and goings \nThen \n Tucked itself in \n To every inlet \nComing to rest at last \nBeneath dark\, overhanging \nFir and Cedar boughs.    \n  \nA family of seals arrived \nDrawn no doubt  \nTo a feast of edibles \nWithin this swelling sea  \nThey approached my canoe \nWary but curious \nFifteen dark heads \nFifteen whiskered mouths \nFifteen pairs of eyes  \nSo intent\, so familiar \nI couldn’t help but talk to them \nWatch them surface\, submerge\, resurface.  \n  \nThen\, Bufflehead ducks\, Mergansers\, Canada geese arrived \nTo this watery place of plenty  \nAlong with those peerless hunters \nGreat Blue Herons\, perched on a single leg \nIn the shallows\, beaks poised waiting  \nFor that one careless minnow. \n  \nThen\, far above\, in a blue\, cloudless sky  \nA Raven flew over the brimming bay  \nIts shrill cry reminding us all \nThat Raven made these seas to rise and fall \nThat Raven holds the rope to let loose their ebb \nAnd pull forth their flood  \nThat he has done so since the beginning of time \n“And look\,” he says\, in his ancient tongue   \n“Caw! I have done it again today.” \n  \n—Will Hornyak\,  February 2024 \n* \n  \nI was talking with Kim about abundance\, and he thought of “lagniappe.” This is the Preface to his book of poems The Lagniappe: \n  \nPreface \n  \nThe title of this book\, lagniappe\, is a resonant word heard in New Orleans\, where it means “a little extra…a bonus…a gift.” This term was first the Quechua word yapa (“to add\, to increase\, to help”) heard buy the hungry conquistadores in the Inca markets of the Andes. It meant a little gift smuggled into the bargaining for potatoes or grain. They took this word to Mexico\, where it became Spanish: ñapa. And then to New Orleans\, where it became French: lagniappe—as in\, “Why did Irene pay for our dessert?” “It’s the lagniappe.” \n  \nSo\, as I age\, I seek the bonus\, the little extra. I hope to become a graceful ruin\, if I am lucky\, lasting past my prime into the years of bending lower\, withering\, and yet—if I choose the path of luck—in possession of lagniappe\, some gifts of insight to offer to the young. \n  \nWho wrote the manual for growing old with grace? Who took time to compose the encyclopedia of life’s attritions\, to gather the scripture of the elder age\, to list the acts of aging apostles\, to pen the proverbs that might guide our passage\, to proffer the gospel for the elder soul? I look around to see who has done this\, or who will do this\, and it appears it may be me. Hence this draft of essential terms. \n  \n—Kim Stafford\, 70 \n* \nBrian Doyle exemplified Blake’s aphorism: “Exuberance is Beauty.” In his enthusiasm he sometimes wrote sentences that went on and on and on. In the posthumous collection of essays One Long River of Song\, the first sentence of his essay on “Pants” contains 379 words! The final essay\, “Last Prayer\,” teaches us about living and dying in Abundance: \n  \nI could complain a little here about the long years of back pain and the occasional awful heartbreak\, but Lord\, those things were infinitesimal against the slather of gifts You gave mere me\, a muddle of a man\, so often selfish and small. But no man was ever more grateful for Your profligate generosity\, and here at the very end\, here in my last lines\, I close my eyes and weep with joy that I was alive\, and blessed beyond measure\, and might well be headed back home to the incomprehensible Love from which I came\, mewling\, many years ago. \n  \n—Brian Doyle\, from One Long River of Song
URL:https://openroadpdx.com/event/peace-love-happiness-understanding-3-7-24/
ATTACH;FMTTYPE=image/jpeg:https://openroadpdx.com/wp-content/uploads/2024/02/IMG_6330-scaled.jpeg
END:VEVENT
BEGIN:VEVENT
DTSTART;VALUE=DATE:20240315
DTEND;VALUE=DATE:20240415
DTSTAMP:20260425T120714
CREATED:20240315T172353Z
LAST-MODIFIED:20240315T183755Z
UID:4501-1710460800-1713139199@openroadpdx.com
SUMMARY:Meditation & Mindfulness Dialogue  3/15/24
DESCRIPTION:photograph by Elizabeth Domike \n  \nOpen Road Meditation & Mindfulness Dialogue \n  \n  \nMarch 15\, 2023 \n  \nOut breath \nand in breath— \nknow that they are \nproof that the world \nis inexhaustible. \n  \n—Ryōkan  (1758-1851) \n* \n  \nYoga \n  \nYoga is Love \n  \nThere are many ways to learn how to tolerate being uncomfortable. \n  \nYoga has been one of those ways for me.  I’d taken a few classes here and there and watched Lilias! as a teenager. I read then\, too\, voraciously about the austerities that the yogis performed along with some Buddhist texts. But it wasn’t until 1999 that I found myself going to a yoga class at my gym with a girlfriend of a work colleague who didn’t want to go alone. \n  \nIt was that one class and the most unusual teacher\, an older fellow\, shaggy beard\, who had been teaching martial arts until he was involved in a car accident from which he learned to rehabilitate himself from\, by practicing yoga. Not your normal teacher in a gym\, for him it was a short-term gig but after that first class I took every class he taught until one day he was gone. \n  \nHis replacement was a Russian woman in her 30’s who came over on a visa to compete in fitness competitions and found a way to stay. Born is Siberia\, trained as a grade schoolteacher she was able to have tea with our original teacher and find out the bones of what he had been teaching us. \n  \nSome classes we would spend an hour on our feet\, another day\, our necks. \n  \nMy partner at the time told me after maybe the second class that he liked that I was going\, which was unusual as he was a bit particular about time with me. He said I will take you any time you want to go\, you are so much “nicer” afterwards. \n  \nOlga\, my new teacher\, did (and does) not have the common American affliction of low self-esteem. \n  \nAfter teaching at the gym for six months she told us she had engaged studio space nearby and was going to teach independently and had found a new teacher for herself and was transitioning from a more fitness-based style to a spine and breath centered style that was developed in India and transmitted to her teacher there. \n  \nOver the next four years she trained with him while we followed her around from studio space to studio space until she was fully certified as a yoga therapist and opened her own dedicated studio. \n  \nI was happy taking class from her and at my local studio for the next 13 years.   \n  \nThat is what I did\, I worked\, I wrote and read poetry and practiced yoga. Always curious\, but (for a number of reasons) not interested in traveling either to India or to high priced retreats or trainings. I read\, asked questions\, and attended a few local workshops with visiting “master” teachers. Including Olga’s own\, Gary Kraftsow. He trained in India with the family that trained BKS Iyengar and Pattabhi Jois. \n  \nOlga finally started grandfathering me into her classes and workshops for teachers because I wanted to know stuff. \n  \nIt was kind of a joke\, just me\, the perpetual student\, and all the teachers. Eventually though it became clear that the only way I was going to retain the Sanskrit and more esoteric teachings was to take on the challenge to teach them myself. I took that training and began\, much to my surprise\, to teach right away\, at work\, of all places. \n  \nAfter all those years of showing up and taking class and feeling better in my body and avoiding injury and helping my nervous system stay on an even keel\, I realized that I loved sharing the teachings with others. \n  \nThe movement\, the meditation\, the breathing\, the profound deep relaxation. This isn’t a metaphor\, teaching for me is love. I love the folks who show up for class and I love being there as a guide for them into their own journey of discovery. Of course\, I have my own practice\, separate from teaching as well. \n  \nHow many of us have the opportunity to fall in love every weekday over and over\, in love with the shared experience\, in love with the creativity (I now read a poem at the end of my morning classes)\, in love with the community the classes provide\, in love with the intoxicating flow during class that is like taking a vacation from the doubts and tribulations of our lives as they are these days? \n  \nEach practice is new\, even if the movements are similar. Each day is new\, the body is a mystery manufacturing plant\, astonishing in its ability to throw us for a loop and catch us as we spiral around back towards balance and integration once again. \n  \nIn the intervening years discomfort has been there\, always a companion\, but so has the yoga. \n  \nI can vaguely make them out\, holding hands\, heading along the path ahead that leads towards the mystery just over the next rise; the one to which we all one day will return. \n  \n–Elizabeth Domike \n* \n  \nWalk so that your footprints bear only the marks of peaceful joy and complete freedom. To do this\, you have to learn to let go – let go of your sorrows\, let go of your worries. That is the secret of walking meditation.  \nWalk as if you are kissing the Earth with your feet. \n                                                                                   —Thich Nhat Hanh \n  \nWhen I was 11 years old\, in the course of a devastating accident\, I had an out-of-body experience. 30 years later\, parasailing in Hawaii\, I recognized the perspective. From a great height I could view my entire neighborhood. I could see residents coming out of their houses and running in the direction of some intense  activity happening far below me. After a time\, I heard distant screaming. Then\, it was me screaming. \n  \nI might have been unconsciously trying to assimilate this experience a couple of years later when my mother came home from her book club with Forever Young\, Forever Healthy\, by Indra Devi; a kind of autobiography with instructions in the practice of yoga asanas. Devi had been the wife of a Czech diplomat in India. She had become an Indian movie star (hence the name) and had convinced the famous yogi Krishnamacharya to take her as a student—perhaps making her the first woman ever accepted into a yoga ashram. Years later\, she opened a studio in Hollywood and taught yoga to movie stars and other famous people. Her book was a success and she followed it up with Yoga For Americans\, a six week yoga course in book form. I was intrigued and began a practice of the asanas\, which has continued more-or-less unbroken for 60 odd years. \n  \nDevi made some reference to the meditative aspect of yoga\, but it was an encounter with another book\, Autobiography of a Yogi\, by Paramahansa Yogananda\, that convinced me to adopt yoga—an idiosyncratic yoga to be sure—as my way of life. Devi’s yoga was basically exercise. She taught a progressive series of asanas adapted for Western people. Yogananda\, on the other hand\, created a syncretic religion focused on meditation and the attainment of “cosmic consciousness” or “oneness with God.” He named it Self-Realization Fellowship. \n  \nIn the hyperbolic language of yogic literature\, dedicated practice gives the yogi power over life and death. The authoritative Yoga Sutras lists eight primary siddhis\, or magical powers\, and many minor ones. Yogananda tells intoxicating stories of healings\, appearing in two places at once\, walking through walls\, stalling passenger trains\, and having casual conversations with God\, whether in the form of Krishna\, Jesus\, Buddha\, or an articulate glowing light. This was heady stuff for a 13 year old nerdy American boy with no athletic prowess and a considerable capacity for self-depreciation\, and I became a committed “devotee.” \n  \nAs the months and years went by\, I noticed that I wasn’t feeling particularly integrated or powerful. While some “meditative experiences” did occur\, I actually seemed to be moving in the opposite direction. I was not becoming more integrated\, but less. At first I attributed this dissolution to weakness in my practice\, but as time went on the Buddhist analysis of the self and of the intention of meditation seemed to confirm my experience. (This is\, of course\, an extremely condensed picture of my development.) At the university I encountered the Prajnaparamita literature and the Mahayana teachings of emptiness\, no-self\, and dependent origination or interbeing. \n  \nIn 1968 I was drafted. The United States involvement in Vietnam was surging\, and the anti-war movement was in full oppositional flower. Now\, the first axiom of Yoga\, philosophically and in practice\, is ahimsa or harmlessness—“not to injure any creature by thought\, word or deed”—and I applied for Conscientious Objector status\, ascribing my dissent to this principle. As part of my application\, I had to gather reference letters from as many people as possible. To my genuine surprise\, the Self Realization Fellowship refused to support my appeal. The flamboyant Yogananda\, with his long hair and ocher robe\, had perhaps wisely required his followers to assume a conservative demeanor. The small organization did not want to become the object of government scrutiny. (Conversely\, they may have actually believed in so-called conservative values.)  \n  \nAn FBI agent was assigned to my case. He spoke with friends and neighbors\, teachers\, acquaintances\, and\, in the end\, he concluded I was sincere. The local draft board turned me down. I appealed to the State Board. An investigation followed; again the investigator concluded I was sincere and the board refused me. This sequence was repeated with the National Board and a Presidential appeal. I was able to read through these various reports due to the Freedom of Information Act. I steeled myself to go to prison. One evening\, a friend  advised me to write to my senator\, Henry “Scoop” Jackson\, a hawkish Democrat who was a strong supporter of US involvement in Vietnam. I felt it was futile\, but I wrote to him stating that I thought an injustice was about to occur. To everyone’s surprise\, Jackson asked that my  case be reviewed. Two days later I received my Conscientious Objector status. Thus yogic ahimsa was made a precedent in claiming CO standing. \n  \nThere are many stories about how yoga came into the world. One of my favorites is that Shiva\, the Lord of Yoga\, created all the forms of life by assuming the appropriate asana for each being. The practice of yoga asanas is an act of identifying with the god\, and through him identifying with all creation. In a typical asana session one becomes a dog\, a cat\, a frog\, a cobra\, an eagle\, a mythic hero\, a baby Krishna\, a tree—even an abstract being such as a triangle. There is no limit to the possibilities of identification. \n  \nTo me\, the practice of Hatha Yoga is a form of meditation\, no different from sitting still or from the  practice of walking described in the quotation above. It should never be done as mere exercise or as a bitter medicine that is supposed to be good for one. I think it’s hilarious when someone refers to me as “disciplined.” For me\, yoga is play\, something so enjoyable I begin to smile the moment my foot kisses the mat. I never hurt myself “doing my yoga”. I don’t stretch or pull my muscles beyond my capacity. Whether in sitting meditation or in asana practice\, I like the sports phrase “playing the edge”—testing one’s limits without trying to go beyond them. Hanging out\, exploring the edge of possibility\, that edge expands without effort. Ahimsa\, the first principle of Yoga\, applies to oneself as well as others.  \n  \nAlthough I studied yoga somewhat extensively\, I was not one of those western pioneers of the ‘60s who journeyed to the east and practiced at the feet of the gurus. I remained in America\, was a dilentantic student at best\, and devoted more time to the study and practice of theater than to Indian metaphysics. Any interpretations I have of Yoga or of Buddhist theory and practice are likely\, in the language of Harold Bloom\, to constitute a misreading. Nevertheless I am bold enough to claim to be a yogi with a small “y”.  The study and practice of Yoga as I understood it has been an unqualified blessing in my life. Whether “kissing the Earth with my feet” or turning the World topsy turvy by standing on my head\, I find stability in insecurity and certainty in not-knowing. To anyone who thinks of yoga as a remote or inaccessible regimen\, I invite you in this moment to bring your attention to how you are sitting (or standing) and breathing. In a moment of attention without any effort to improve\, you can experience yoga\, which is the ending of division and conflict.  \n  \n—Howard Thoresen \n* \n  \nI initially began a serious yoga practice shortly after the birth of my first daughter. It began as an escape. I had gone from an independent\, young woman pursuing my education and supporting myself\, to partnered with a child in a short time. I was looking for something that could be mine. Looking back\, I see I needed to grieve for my life before children—for my former identity—and I was searching for a way to complete my metamorphosis. I was looking to relieve the spiritual suffering I couldn’t articulate at the time.  \n  \nI met a woman teaching Kundalini yoga. I was drawn in from the first class and started going as often as I could. I liked using mantras and the resonance of speaking these new and foreign powerful words aloud and in community. It felt like tangible strength. I was reconnecting. I was breathing and transforming. And with a flexibility of body comes a flexibility of mind.  \n  \nThroughout the years my practice ebbed and flowed. I went from Kundalini to Ashtanga to shadow yoga and back to Ashtanga. There were times I was practicing daily separated by periods with little to no time on the mat. But yoga has been a part of my life since that first class. There is asana and there is everything else. It is the inner practices of yoga (concentration\, meditation) that have been the most profound for me. What is striking about yoga to me is its ability to gently guide. I make better\, more conscious decisions\, as a yogini.  \n  \nIn 2018\, I traveled to Kathmandu to become a certified yoga and meditation teacher. I had no intention of teaching. I simply desired to dive deep and solidify what I began so many years ago – to take a new shape as a person content with the unknown. I am happy\, as I now understand that gratitude and presence is love in action and are accessible any time.  \n  \nYoga has now led me to the healing potential of Ayurveda and I am now an Ayurvedic Wellness Counselor\, committing myself to a life of balance and wonder. I continue to practice meditation daily and asana on a regular basis and imagine I will do so for the rest of the days within my one wild and precious life.  \n  \nIn gratitude and light \n—Nicole Rush
URL:https://openroadpdx.com/event/meditation-mindfulness-dialogue-3-15-24/
ATTACH;FMTTYPE=image/jpeg:https://openroadpdx.com/wp-content/uploads/2024/03/0.jpeg
END:VEVENT
BEGIN:VEVENT
DTSTART;VALUE=DATE:20240323
DTEND;VALUE=DATE:20240424
DTSTAMP:20260425T120714
CREATED:20240326T024517Z
LAST-MODIFIED:20240918T214211Z
UID:4519-1711152000-1713916799@openroadpdx.com
SUMMARY:The Nonstop Love-In by Johnny Stallings
DESCRIPTION:  \nDear Friends! \nI’m excited to be publishing my first book! The Nonstop Love-In: poems\, stories\, essays & other writings is published by Open Road Press.  \nThere was a Book Launch at Ross Island Grocery & Cafe on March 23\, 2024. There was a Book Reading & Signing at Belmont Books\, in Portland\, on April 17. \nYou can buy a copy of the book from Belmont Books.  \nMultnomah County Library has ordered 12 copies. You can place a hold now! It’s also available as an ebook from Multnomah County Library\, or on Kindle from Amazon. \nYou can order a copy of the book from Open Road Press. Make out your check for $20 (includes shipping) to “Open Road Press” and mail it to:  \nOpen Road Press  \n4110 SE Hawthorne Blvd.\, PMB 268  \nPortland\, OR  97214 \n  \nYou can also get a copy by emailing me at: \nstallingsjohnny@gmail.com. \n  \nThe book can be ordered from the websites of: \nIngramSpark \nPowell’s \nBarnes & Noble \nAmazon \n  \nA portion of the proceeds goes to Open Road Press to seed future publications. \nThe release date was Saturday\, March 23rd\, 2024.  \nWe had a great Book Launch that very evening at Ross Island Grocery & Cafe. It was a total Love-In! \n  \nFrom the back cover: \n  \nIf you know Johnny\, you will love this book. If you don’t\, after reading\, you will want to meet him—by reading this book. Who else can provide such a good-humored\, big-hearted\, modern Socratic quest into the nature of human happiness\, and the myriad paths to finding joy? Johnny lived in India—and in the remote Eastern Oregon town of Ashwood. He’s spent years in prison—as a generous visitor creating dialog circles to bring lively thought to shadowed lives. And all the time he was writing these zesty morsels of insight\, poem\, story\, meditation\, and manifesto just for you. \n  \n—Kim Stafford\, author of As the Sky Begins to Change  \n  \nGet your copy today!  \nMakes a great gift! \n  \npeace\, love & happiness \n  \nJohnny
URL:https://openroadpdx.com/event/how-to-order-the-nonstop-love-in/
ATTACH;FMTTYPE=image/jpeg:https://openroadpdx.com/wp-content/uploads/2024/02/unnamed.jpg
END:VEVENT
END:VCALENDAR