BEGIN:VCALENDAR
VERSION:2.0
PRODID:-//The Open Road:  a learning community - ECPv6.15.3//NONSGML v1.0//EN
CALSCALE:GREGORIAN
METHOD:PUBLISH
X-WR-CALNAME:The Open Road:  a learning community
X-ORIGINAL-URL:https://openroadpdx.com
X-WR-CALDESC:Events for The Open Road:  a learning community
REFRESH-INTERVAL;VALUE=DURATION:PT1H
X-Robots-Tag:noindex
X-PUBLISHED-TTL:PT1H
BEGIN:VTIMEZONE
TZID:America/Los_Angeles
BEGIN:DAYLIGHT
TZOFFSETFROM:-0800
TZOFFSETTO:-0700
TZNAME:PDT
DTSTART:20240310T100000
END:DAYLIGHT
BEGIN:STANDARD
TZOFFSETFROM:-0700
TZOFFSETTO:-0800
TZNAME:PST
DTSTART:20241103T090000
END:STANDARD
END:VTIMEZONE
BEGIN:VEVENT
DTSTART;VALUE=DATE:20240515
DTEND;VALUE=DATE:20240615
DTSTAMP:20260425T071403
CREATED:20240515T233014Z
LAST-MODIFIED:20250717T212820Z
UID:4683-1715731200-1718409599@openroadpdx.com
SUMMARY:Meditation & Mindfulness Dialogue  5/15/24
DESCRIPTION:  \nOpen Road Meditation & Mindfulness Dialogue \n  \nMay 15\, 2024 \n  \nKatie sent this: \n  \nDo all the good you can\, \nBy all the means you can\, \nIn all the ways you can\, \nIn all the places you can\, \nAt all the times you can\, \nTo all the people you can\, \nAs long as ever you can. \n  \n–John Wesley (1703-1791) \n* \n  \n     For so long I wandered in the darkness and stayed from the light\, I was safe there\, I was out of sight. \n     Not knowing what it was that led along in life\, a thread pulled on my heart\, some would call it luck\, I am alive. \n     Whatever it is\, I’ve always followed my heart and when I’ve not done so…things don’t work out so well for me. \n     We all have a passion inside of us; driven by it\, great things come from each of us for others\, for all we love in life. \n     To give to each other the love we have in our hearts\, is truly what is important in life\, it keeps all of us together. \n  \n—Rocky Hutchinson  4-18-24 \n* \n  \n#16  Embrace Them With Great Tenderness \n  \n“Do not fight against pain and do not fight against irritation or jealousy. Embrace them with great tenderness\, as though you were embracing a little baby. Your anger is yourself\, and you should not be violent toward it. The same goes with all of your emotions.” \n—Thich Nhat Hanh\, from Your True Home \n  \nOh how important it is to remember this! I am so glad that Thich Nhat Hanh is here to verify\, to validate this aching truth for me. \n  \nAfter fifteen years of inexpressible joy with my dear pooch\, my dear dog\, Lolo (yes\, named for Lolo Pass in the mountains\, to replace her shelter name of…Tiffany)\, she is deteriorating rapidly\, and I doubt we have six more months with her. Where once not long ago she could hike 10-12 miles with me\, now she can walk only a couple short walks around our property. Her kidneys are failing and her hind legs wobble and collapse until I prop her up and give her a little pep talk.  \n  \nMy heart is breaking. Yes\, we’ve had 15½ joyful years with her\, so true\, but now comes what I have dreaded—accompanying yet another dog through the death process. \n  \nMy heart is breaking\, and yet I realized that this great sadness is so filled with love that it is beautiful\, that I am fortunate to be feeling this sadness\, because it is all love for this creature. My heart is full\, and whether it is sadness or joy\, the important thing is that my heart is full\, and alive. \n  \n—Jude Russell \n* \n  \n     Beauty Blind \n  \nHave I grown blind to the attractions of the ordinary? \nHave I lost the mundane matrix in background weave \nof common days\, where the blossom distracts me \nfrom the stem’s grace\, which distracts me \nfrom the leaf’s holy hue\, which distracts me \nfrom earth\, essential earth\, each crumb of origin? \n  \nAny bright young face in the crowd can steal \nmy attention from all beautiful variations \nof the human tribe\, from the honest old\, the brutal \nbroken\, the pluck and persistence of the unseen. \nWake up\, sleepy wisdom. See as sky sees\, \npouring light in bounty over all of us. \n  \n—Kim Stafford \n* \n  \nWhy should I be unhappy? Every parcel of my being is in full bloom. \n—Rumi \n  \nAs is the world right now! \n  \n—Jill Littlewood\n* \n  \nFrom the Rubaiyat: \n  \nThe Bird of Time has but a little way \nTo fly—and Lo! the Bird is on the Wing. \n—Omar Khayyam \n  \n—J Kahn \n* \n  \nRhododendrons are in bloom! Our whole neighborhood is a gigantic garden. \n  \nUnder the greenwood tree \nWho loves to lie with me \nAnd turn his merry note \nUnto the sweet bird’s throat\, \nCome hither\, come hither\, come hither. \n     Here shall he see \n     No enemy \nBut winter and rough weather. \n  \nWho doth ambition shun \nAnd loves to live i’ th’ sun\, \nSeeking the food he eats \nAnd pleased with what he gets\, \nCome hither\, come hither\, come hither. \n     Here shall he see \n     No enemy \nBut winter and rough weather. \n  \n[“Who” here means “Anyone who”] \n  \nThis song comes from Shakespeare’s play As You Like It. The play and the song belong to the pastoral tradition in literature\, where rural life is imagined as idyllic and innocent. Usually shepherds are involved. William Blake’s Songs of Innocence are in that tradition. \n  \nThis morning I’m thinking about how we live inside the worlds we imagine. In our lives\, innocence gives way to experience. And then maybe…I don’t know what…another kind of innocence. Here’s a poem from my book The Nonstop Love-In that may be about that: \n  \nlet’s pretend \n  \ninstead of pretending that we are afraid \nthat we must improve \nthat we have enemies \nthat the future will arrive someday \n  \nlet’s pretend everything is sacred \npretend this is Paradise \npretend every moment is precious \npretend we love everyone \n  \npretend our joy knows no bounds \npretend we are the whole wide world \n  \n—Johnny Stallings \n* \n  \nGRATITUDE \n  \n“The Hebrew term for gratitude translates as ‘recognizing the good.’ Myriad benefits come to us every day\, but most of us find it easy to overlook them and instead focus on what we lack. This trait is an invitation to sensitize yourself to the good and to the gifts that are certain to be present in your life at every moment\, even if at the same moment there happen to be difficulties. \n  \n—AWAKEN TO THE GOOD AND GIVE THANKS \n  \nPRACTICE: Say ‘thank you’ to every person who does even the slightest thing that is helpful or beneficial to you.” \n—Alan Morinis\, from Every Day\, Holy Day \n  \nIt is easy to obscure my daily Positive experiences or overlook the seemingly-small kindnesses of others during the day. Yet\, I know from previous experience (now lapsed) that any effort to see and appreciate these moments only expands my joy and positive experiences throughout the day. I enjoy the mantra for today. Giving thanks is the easy part\, mostly. The seeing of good or Positives—thus awakening—is my threshold of challenge. I can’t help but recall the Robin Williams movie\, “Awakenings”; noticing how easy it is to fall into a torpor of catatonia for others’ kindnesses—not even “seeing” that which is slapping my face\, repeatedly. Like the patients\, I need an “L-Dopa” therapy to shock me from my torpor to sharp alert and to fully present experience of my world and life as it is. Here’s to awakenings for even slight helps\, benefits or “good” moments Today! \n  \nI’ve wanted a “new” mindfulness practice: Providence has afforded me this Mussar practice—combining Judaism\, meditation and mindfulness into a regular practice. I learned recently in a read on Hasidis that Zen\, which I practiced earlier (2014-2020)\, is very akin to Jewish Kabbalah practices\, and now I have Mussar exercises for my meditation moments daily!  \n  \nP.S. Having an audience for writing is a helpful focus and—THANK YOU ALL FOR YOUR SUPPORT! \n  \n—Michel Deforge
URL:https://openroadpdx.com/event/meditation-mindfulness-dialogue-5-15-24/
ATTACH;FMTTYPE=image/jpeg:https://openroadpdx.com/wp-content/uploads/2025/07/IMG_6581-scaled.jpeg
END:VEVENT
BEGIN:VEVENT
DTSTART;VALUE=DATE:20240606
DTEND;VALUE=DATE:20240704
DTSTAMP:20260425T071403
CREATED:20240607T015715Z
LAST-MODIFIED:20240607T022313Z
UID:4729-1717632000-1720051199@openroadpdx.com
SUMMARY:peace\, love\, happiness & understanding  6/6/24
DESCRIPTION:The Young Hare by Albrecht Dürer \n  \nTHE OPEN ROAD \npeace\, love\, happiness & understanding \n  \nJune 6\, 2024 \n  \nLive righteously and love everyone. \n  \n—tag on Yogi Tea bag \n* \n  \nAlex sent this poem: \n  \nThe Province of Clocks \n  \nThere aren’t many leaves left in the galaxy \nmagnolia planted on the museum grounds. \n  \nRavens explode from the county hospital \nroof as a result of internal pressure\, recalling \n  \nto me the nurse who caressed my hand \n-cuffed wrists at two in the morning \n  \nwhen I was sick and awaiting arraignment. She didn’t \nhave to do that. Now when I’m bored and uncurious \n  \nI try to remember what it was like to remember \nhow I held my face so close to the juniper\, redirected \n  \na moth from annihilation\, and asked my grief \nfor the hour. Contrary to popular belief\, clocks have more \n  \nto do with space than time\, and all guns really do is move \na thing very quickly into you. \n  \n—Alex Tretbar \n  \nfirst published in the journal Sixth Finch \n* \n  \nKen Margolis shared this: \n  \n“Literature has neglected the old and their emotions. The novelists never told us that in love\, as in other matters\, the young are just beginners and that the art of loving matures with age and experience. Furthermore\, while many of the young believe that the world can be made better by sudden changes in social order and by bloody and exhausting revolutions\, most older people have learned that hatred and cruelty never produce anything but their own kind. The only hope of mankind is love in its various forms and manifestations—the source of them all being love of life\, which\, as we know\, increases and ripens with the years.” \n  \n—from the “Author’s Note” to the book Old Love by Isaac Bashevis Singer \n  \nIsaac Bashevis Singer (1903-1997) won the Nobel Prize for Literature in 1978—the only Yiddish writer to do so. \n* \n  \nI invited Elizabeth to write about her personal experience with blogs. Here’s what she wrote: \n  \nAbout Those Web Logs (Blogs) \n  \nI didn’t start writing regularly on the internet until the summer of 2000. Before then I had been posting poetry drafts for workshopping on a site called Open Diary. Not because I was workshopping the poems there. I was posting there because I met a couple of guys that wanted to workshop poems and instead of printing our poems out to share at our weekly coffeeshop meetings\, one of the guys suggested we use this online diary site. We could put our poems up\, we could see them\, critique them\, and hey maybe if we got lucky someone else would as well. \n  \nThat was in 1998. We used what we called “diary names”. There were three of us at that first meeting. When we put up our draft poems there was a front-page feature that folks out in the world would scroll through and click on something that interested them. There was the ability to leave notes on someone’s post. I think we had rudimentary hashtags too\, so people interested in poetry might find us that way. \n  \nI didn’t get much traffic\, but the two male poets got more\, and I would look at their notes and click on those people’s diaries. These were people writing regularly all over the world about their lives behind this porous wall of assumed anonymity. \n  \nThere was flirting\, there was drama\, as more and more folks coming to the local open mic readings found out we were doing this and joined. People started writing more than poetry and those of us still writing poetry and reading it were parsing it for the juiciest possible details about each other. Factions developed. Feelings were expressed. It was a free for all. \n  \nI was reading about the daily lives of people all over the English-speaking world that I stumbled upon or who had found me. I remember a particular day clearly\, keeping the poetry page\, I decided to set up a page to talk about myself and my life\, so I didn’t feel like I was lurking\, I was participating. There were ads but somewhere around 2003 or so we got the option to have no ads if we paid a modest amount either monthly or annually. \n  \nThere were various levels of privacy available too. You could have Friends Only; this is before Facebook became ubiquitous. But I decided to keep my writing public. This became an issue when my family and coworkers started reading what I was writing. Did I mention drama? Crazy drama with misinterpretation and envy and grudges and… \n  \nIt was kind of fun in an I know this probably isn’t a good idea transgressive sort of way. \n  \nNow you would think\, oh\, well the thing to do then is manage privacy to minimize the drama\, but being a person who likes a challenge I decided to figure out a way to write regularly about my life that my family and close friends could read and be okay with. This took a couple of years\, and I would say that the biggest lesson I learned is that the only story that is mine to tell is…mine. \n  \nStill to this day\, things can get a little slippery in this arena if I know someone isn’t reading my posts or a perceived affront occurs… but mostly\, I manage the impulse and keep things on the understated side. So… no trainwrecks. \n  \nOne of the poets I started this adventure with I became very close to\, and he pretty much only posted poetry. He didn’t have the diary impulse. His diary name was Mr. Finch and mine was (and still is) noko. Noko was my first cat\, a gorgeous Norwegian Forest Cat. Johnny’s diary name is Walt\, for obvious reasons. \n  \nBut oh\, Mr. Finch was able to create drama. And he had strong (right wing I might add) opinions. \n  \nAnd then he got sick. By then we were inseparable. I wrote about his illness. He had lung cancer that had spread to his brain. Taking care of him was this isolating thing. I was working full time and caring for him and I wrote about it all on this diary\, blog thing\, as often as I could. \n  \nPeople we had connected to all over the world were following along. They left unbelievably supportive and useful notes. We would read them together. And it helped. It helped us get through the hard days and the days where silly things happened and the days\, deep breath\, I needed to interact with his insane family full of alcoholics and one particularly challenging niece with M.S. and a crush on him. But we won’t go there\, okay. \n  \nAt some point the guy running the website decided he couldn’t do it anymore. There was much distress. Eventually another guy decided he would set up a new website and many of us went there. It is called Prosebox. It works a lot better than Open Diary ever did\, costs a modest sum to use without ads\, allows pictures if one hosts them elsewhere. \n  \nWhen Mr. Finch and I\, (we often called each other by our diary names) started a poetry press\, open mic reading\, we also started a Blogspot blog. We both wrote on that. It is a blogger’s blog called Meander Knot Press. I haven’t written on there since 2016 but it is still extant. \n  \nThe reach of the writing I do on Prosebox\, usually twice a week and noting every few days is small\, meaningful\, and broadly international. A number of people who “read me”\, I read as well and (for some of us 24 years) our communications have developed into deep caring connections. I have met some people in person over the years. Never a disappointment. \n  \nI have accounts on Facebook\, Instagram\, Medium and Substack. But I barely use any of them. I do read some accounts on Substack regularly. This has become the place where folks who are not part of a media organization go to say things they have to say. People put up a certain amount of content for free or you can subscribe for more. \n  \nSubstack has expanded recently to include podcasts. I love podcasts\, the voice is so intimate. \n  \nThe most popular Substack is by the historian Heather Cox Richardson:  https://heathercoxrichardson.substack.com/. It is called Letters From an American. If you give your email address you can have access for free to some material. There is now a feature where if you subscribe\, (I do for $5 a month) you get access to her reading her posts out loud. I wasn’t finding time to read them regularly\, but I can listen when I am doing chores and I happily do. \n  \nA popular independent and successful blog is The Marginalian by Maria Popova that I know a number of you subscribe to. You can find her here:  https://www.themarginalian.org/about/ \n  \nThe thing is… people are busy. When I get asked why I would write about myself regularly and make it public…that is crazy… I just smile. I don’t expect anyone to read what I write unless they find something to connect to there. I wrote a post a few hours ago with a picture of wild blackberries in bloom and a widow in Midland Canada who was born in Singapore and married a missionary and a retired maths teacher with partial dementia from Victoria Australia read it and left notes. \n  \nThe sweet serendipity of it all makes my heart sing a happy song. It appears the years of effort were worthwhile. \n  \n—Elizabeth Domike \n* \n  \n“The Marginalian” was originally called “Brain-Pickings.” I’ve been getting it in my Inbox for years. It is one of the inspirations for “peace\, love\, happiness & understanding.” I like to think of this as a “journal\,” rather than a “newsletter.” There’s no news in it. When Covid was arriving in early 2020\, Nancy and I were thinking about how it was going to make life in prison even worse! I thought some of our friends in prison might enjoy getting something in the mail every week\, especially something with upbeat\, inspirational content. (I rely on poems a lot.) These days it comes out on or about the first Thursday of the month. I mail it to about 2o people in prison\, and email it to a little over 100 people “on the outside.” (Does emailing it make it a “blog”?) Since the Spring of 202o\, a lot of our friends who were then in prison are out now. Hallelujah! \n  \nOn the Open Road website there is a peace\, love\, happiness & understanding Archive: https://openroadpdx.com/event/peace-love-happiness-understanding-archive/. This is the 95th Issue! \n  \nWalt Whitman’s 205th birthday was on May 31st. We celebrated with a cake and I performed my hour-long version of his poem “Song of Myself.” I’ve been doing that for a long time. It seems to make everyone happy—including me.  \n  \nIt’s weird to me that 169 years after Walt wrote this poem\, it is not more widely read\, appreciated\, and enjoyed than it is. Many people I ask about the poem say they haven’t read it—or that they read it long ago\, in school. \n  \nChapter Two of the book Black Elk Speaks and “Song of Myself” seem to me to be the most important texts that have come from America. As a wisdom text\, I have found it to be more helpful in changing the way I see and feel and experience the world than the Sermon on the Mount\, the Bhagavad Gita\, or the Tao Te Ching. High praise!—but true\, I think\, for me. \n  \nHere are some things about Walt Whitman and “Song of Myself” from the Open Road website: \n  \nhttps://openroadpdx.com/event/peace-love-happiness-walt-whitman-issue-4-9-4-15/ \nhttps://openroadpdx.com/event/peace-love-happiness-understanding-6-2-22/ \nhttps://openroadpdx.com/event/friends-of-walt-an-archive/ \n  \nAnd there’s an essay titled “Walt and Me” in my book The Nonstop Love-In\, which is available from the Multnomah County Library: \n  \nhttps://multcolib.bibliocommons.com/v2/record/S152C2348579 \n  \nIt can also be ordered from Open Road Press \n  \nhttps://openroadpdx.com/open-road-press/ \n  \nand from Powell’s Books and Amazon. \n  \nWell\, that’s about it for this time. \n  \n  \nMuch love to y’all\, \nJohnny
URL:https://openroadpdx.com/event/peace-love-happiness-understanding-6-6-24/
ATTACH;FMTTYPE=image/jpeg:https://openroadpdx.com/wp-content/uploads/2024/06/flat750x075f-pad750x1000f8f8f8.jpg
END:VEVENT
END:VCALENDAR